BEGIN:VCALENDAR
VERSION:2.0
PRODID:-//Great Plains ToP - ECPv6.15.17.1//NONSGML v1.0//EN
CALSCALE:GREGORIAN
METHOD:PUBLISH
X-ORIGINAL-URL:https://greatplains.top
X-WR-CALDESC:Events for Great Plains ToP
REFRESH-INTERVAL;VALUE=DURATION:PT1H
X-Robots-Tag:noindex
X-PUBLISHED-TTL:PT1H
BEGIN:VTIMEZONE
TZID:UTC
BEGIN:STANDARD
TZOFFSETFROM:+0000
TZOFFSETTO:+0000
TZNAME:UTC
DTSTART:20220101T000000
END:STANDARD
END:VTIMEZONE
BEGIN:VEVENT
DTSTART;TZID=UTC:20230918T100000
DTEND;TZID=UTC:20230922T133000
DTSTAMP:20260421T191344
CREATED:20230104T075932Z
LAST-MODIFIED:20230119T230610Z
UID:396-1695031200-1695389400@greatplains.top
SUMMARY:Approaches to Environmental Scanning – Online
DESCRIPTION:Sessions: \nSeptember 18 – 10:00 am – 1:30 pm CDT\nSeptember 20 – 10:00 am – 1:30 pm CDT\nSeptember 22 – 10:00 am – 1:30 pm CDT\n\n \nDescription \nBefore planning for the future\, groups need to understand their history and the current dilemmas they face\, as well as anticipate shifts and trends in their larger environment. \nEnvironmental Scanning provides a way to quickly understand customer\, staff or community perceptions and needs\, delve into relevant data\, and get groups on the same page to launch their work\, but one size doesn’t fit all! \nIn this three day course\, participants will explore 10 dynamic and creative ways to conduct group assessments\, and then engage in hands-on practice to select the right approach for various situations. You’ll go back to this extensive “recipe book” of techniques again and again! \nCourse Applicable To: \n\nBusiness & Team Leaders\nLocal\, State\, and Federal Leaders and Program Managers\nChange Managers\nFacilitators\, Trainers and Consultants\nCommunity Organizers\nCommunity Planners\nAnyone who wants to set a foundation and context for strategic thinking and proactive planning\n\nMiro \nThis course is offered on the Miro virtual collaboration platform \nPrerequisites \nToP Facilitation Methods (TFM) \nPricing \n$800: Corporate\, Large Nonprofits (budget>$5 million)\n$700:  Public Government\n$600:  Individual Professional\, Mid-Sized Nonprofit (budget $1-5 million)\n$500:  Small Nonprofit (budget < $1 million)\, Student (student ID required)
URL:https://greatplains.top/event/september-18-22-approaches-to-environmental-scanning-online/
LOCATION:Online
CATEGORIES:Online Facilitation,ToP Approaches To Environmental Scanning
ATTACH;FMTTYPE=image/png:https://greatplains.top/wp-content/uploads/2023/01/DSCF0823_1200_WEB-IU8r3d.tmp_.png
ORGANIZER;CN="Kim Howe":MAILTO:kimjhowe@gmail.com
END:VEVENT
END:VCALENDAR