BEGIN:VCALENDAR
VERSION:2.0
PRODID:-//Great Plains ToP - ECPv6.15.17.1//NONSGML v1.0//EN
CALSCALE:GREGORIAN
METHOD:PUBLISH
X-WR-CALNAME:Great Plains ToP
X-ORIGINAL-URL:https://greatplains.top
X-WR-CALDESC:Events for Great Plains ToP
REFRESH-INTERVAL;VALUE=DURATION:PT1H
X-Robots-Tag:noindex
X-PUBLISHED-TTL:PT1H
BEGIN:VTIMEZONE
TZID:UTC
BEGIN:STANDARD
TZOFFSETFROM:+0000
TZOFFSETTO:+0000
TZNAME:UTC
DTSTART:20220101T000000
END:STANDARD
END:VTIMEZONE
BEGIN:VEVENT
DTSTART;TZID=UTC:20231106T000000
DTEND;TZID=UTC:20231117T000000
DTSTAMP:20260424T042006
CREATED:20230605T210101Z
LAST-MODIFIED:20230605T210145Z
UID:762-1699228800-1700179200@greatplains.top
SUMMARY:ToP Strategic Planning - Online
DESCRIPTION:This course is completed in 5 sessions (times are central time) \nMonday\, November 6:  10 am – 2 pm\nWednesday\, November 8:  10 am – 2 pm\nFriday\, November 10:  10 am – 2 pm\nTuesday\, November 15:  10 am – 2:00 pm\nThursday\, November 17:  10 am – 2:00 pm \n \nToP Strategic Planning Online Edition translates the ToP Strategic Planning process to an online format that preserves the richness of the face to face version and moves it into the virtual world. Highly participatory\, the Online Edition breaks down barriers and builds engagement wherever you may be. \nEach half-day segment is devoted to one of five phases of developing a strategic plan: \n\nPreparation and Design\nPractical Vision\nUnderlying Contradictions\nStrategic Directions\nFocused Implementation\n\nFor each segment\, participants will participate in a demonstration of the process\, followed by a review of the process experienced\, key steps and approaches used and discussion of factors in facilitating the segment. This structure enables the experience of how the processes invite a wide range of thinking styles\, invites participation from many perspectives and yields a coherent\, practical plan. \nThe course will be delivered via Zoom in combination with another online collaboration platform: either Miro or Mural – see details for yours.  The course is not a training course for these platforms but will allow participants to interact with the technology to understand its features and benefits.  Participants will receive several templates to support the work of each section as well as suggestions for using other supporting technology. \nParticipants will need an internet connected computer\, strong broadband signal\, and a quiet place from which to join the sessions. \nSee a short video about the Strategic Planning course here. \n\n\n\nCourse Applicable To:\n\nThose needing to collaborate with large numbers of stakeholders to develop long-term strategy quickly \nExecutives\, managers and organizational leaders who depend on others for successful implementation of organization strategies \nBoard members\, educators and individuals responsible for leading organizations into the future. \nFacilitators and consultants \nLocal\, state\, and federal leaders and program managers \n\n\n\nPrerequisites\n\n ToP Facilitation Methods (TFM) \n\n\n\nContinuing Ed Credits\n\n13.5 NCHEC (CHES & MCHES) \n14.5 AICP (APA) \n\n\n\nPricing\n$1250: Corporate\, Large Nonprofits (budget>$5 million)\n$1050:  Public Government\n$950:  Individual Professional\, Mid-Sized Nonprofit (budget $1-5 million)\n$650:  Small Nonprofit (budget < $1 million)\, Student (student ID required)\n\n\nTestimonials\n\n“ToP Strategic Planning was fabulous and brings new light and insight into planning for success.  The method is inclusive and expansive\, including amazing tools for implementation.”  Michael Fredericks – President – SALT\, Anchorage AK \n“The force gave me a simple\, powerful framework that any of my clients can easily use to create strategic plans that will actually come to fruition!”    Janet Mahrle – Owner – Mahrle Coaching Services\, Sacramento CA \n“Full of ways to motivate and energize people meaningfully in creating their future\, whether for themselves\, their family or places of work.”  Carolyn Newbetty Schwartz – Consultant – Oak Park IL
URL:https://greatplains.top/event/top-strategic-planning-online-tspo-019/
CATEGORIES:Online Facilitation,ToP Courses,ToP Strategic Planning
ATTACH;FMTTYPE=image/jpeg:https://greatplains.top/wp-content/uploads/2023/06/top-strategic-planning.jpg
END:VEVENT
END:VCALENDAR