BEGIN:VCALENDAR
VERSION:2.0
PRODID:-//Great Plains ToP - ECPv6.15.17.1//NONSGML v1.0//EN
CALSCALE:GREGORIAN
METHOD:PUBLISH
X-ORIGINAL-URL:https://greatplains.top
X-WR-CALDESC:Events for Great Plains ToP
REFRESH-INTERVAL;VALUE=DURATION:PT1H
X-Robots-Tag:noindex
X-PUBLISHED-TTL:PT1H
BEGIN:VTIMEZONE
TZID:UTC
BEGIN:STANDARD
TZOFFSETFROM:+0000
TZOFFSETTO:+0000
TZNAME:UTC
DTSTART:20220101T000000
END:STANDARD
END:VTIMEZONE
BEGIN:VEVENT
DTSTART;TZID=UTC:20231017T100000
DTEND;TZID=UTC:20231026T150000
DTSTAMP:20260424T223535
CREATED:20230314T234122Z
LAST-MODIFIED:20230314T234628Z
UID:664-1697536800-1698332400@greatplains.top
SUMMARY:ToP Facilitation Methods Online
DESCRIPTION:Sessions\nOctober 17 – 10:00 am – 3:00 pm CDT\nOctober 19 – 10:00 am – 3:00 pm CDT\nOctober 24 – 10:00 am – 3:00 pm CDT\nOctober 26 – 10:00 am – 3:00 pm CDT \n \nDescription\nHave you found yourself struggling to conduct meaningful online conversations?\nAre you anxious about what to do when someone dominates the conversation?\nDo you feel like a used car salesman trying to get people to stay committed and motivated to group projects?\nIn this engaging live on-line modular course you look at the landscape of facilitation and will learn three simple\, universally applicable approaches to help you confidently move any group from unproductive conflict or confusion to consensus and commitment. \nLandscape of Facilitation (Module I) \n\nIntroduction and facility with the virtual facilitation environment\nUnderstanding of ToP facilitation as a participatory and respectful process that helps groups create shared awareness\, agreement\, and action online\nUnderstand the foundational theory and flow of ToP Facilitation Methods virtually\n\nFocused Conversation (Module II) \nGenerate meaningful\, productive dialogue around any topic with this universal framework. Learn how to virtually : \n\nBuild your confidence in hosting respectful\, inclusive conversations online\nDeepen awareness and understanding of individual and group dynamics in conversation\nFeel increasingly comfortable flexing between the roles of participant\, designer\, and facilitator\nParticipate in an online learning environment\, where a variety of virtual tools are modeled for their potential use\, including chat\, participant\, and breakout features in Zoom\n\nConsensus Workshop (Module III) \nInfuse a group with creativity and bring diverse opinions and perspectives into alignment with this energizing virtual process. \n\nRespectfully integrate diverse ideas into a larger whole\nTap rational and intuitive thought processes\nGenerate practical and creative solutions from multiple perspectives\nActively engage participants in collective decision-making\n\nAction Planning (Module IV) \nQuickly plan and prepare a group project for launch\, and develop shared commitment to timelines\, tasks\, and success measures. \n\nAnalyze the current reality and set inspiring goal\nMaximize group ownership and creativity\nCraft a doable plan with clear ownership\, timelines\, and success measures\n\nImmersive demonstrations\, process review of foundational theoretical understanding of facilitation and group dynamics\, and planning for application regardless of preferred virtual platform\, will ensure you leave with confidence to immediately put your new skills to use.\nYou will receive: step-by-step manual and resource guide\nYou will be asked to: participate in self-guided learning including reading materials and assignments \nCourse Applicable To: \n\nManagers and supervisors\nExecutive directors and board members\nEducators and health practitioners\nProject and team leaders\nActive citizens and community workers\nFacilitators\, trainers and consultants\nGovernment employees and elected officials\nUX and product designers\nOrganizational change agents\nCommunity organizers\nOthers who lead meetings or collaborate with groups of any kind\n\nPrerequisites \nNone \nContinuing Ed Credits \nApplicable for NCHEC (CHES & MCHES) and AICP (APA). Inquire to support@ica-usa.org for credit hour details. \nPricing \n$1250:  Corporate & Large Nonprofits (budget > $5 million)\n$1050:  Public Government\n$950:  Individual Professional – Mid-Sized Nonprofit (budget $1-5 million)\n$650:  Student (student ID required) & Small Nonprofit (budget < $1 million) \n \n(you will be directed to our sister site top-training.net to process your registration and secure payment)
URL:https://greatplains.top/event/top-facilitation-methods-online/
LOCATION:Online
CATEGORIES:Online Facilitation,ToP Facilitation Methods
ATTACH;FMTTYPE=image/jpeg:https://greatplains.top/wp-content/uploads/2023/03/TMFO.jpg
ORGANIZER;CN="Kayla Schnuelle":MAILTO:kayla@mission-matters.com
END:VEVENT
END:VCALENDAR